View In:
ArcGIS JavaScript
ArcGIS Online Map Viewer
ArcGIS Earth
ArcMap
View Footprint In:
ArcGIS Online Map Viewer
Service Description: Frisco Imagery 2024.
Name: Base_Layers/TOF_Imagery2024
Description: Frisco Imagery 2024.
Single Fused Map Cache: false
Extent:
XMin: 2822226.75
YMin: 1627641.25
XMax: 2844242.25
YMax: 1647349.5
Spatial Reference: PROJCS["NAD_1983_2011_StatePlane_Colorado_Central_FIPS_0502_Ft_US",GEOGCS["GCS_NAD_1983_2011",DATUM["D_NAD_1983_2011",SPHEROID["GRS_1980",6378137.0,298.257222101]],PRIMEM["Greenwich",0.0],UNIT["Degree",0.0174532925199433]],PROJECTION["Lambert_Conformal_Conic"],PARAMETER["False_Easting",3000000.0],PARAMETER["False_Northing",1000000.0],PARAMETER["Central_Meridian",-105.5],PARAMETER["Standard_Parallel_1",38.45],PARAMETER["Standard_Parallel_2",39.75],PARAMETER["Latitude_Of_Origin",37.8333333333333],UNIT["Foot_US",0.3048006096012192]]
Initial Extent:
XMin: 2822226.75
YMin: 1627641.25
XMax: 2844242.25
YMax: 1647349.5
Spatial Reference: PROJCS["NAD_1983_2011_StatePlane_Colorado_Central_FIPS_0502_Ft_US",GEOGCS["GCS_NAD_1983_2011",DATUM["D_NAD_1983_2011",SPHEROID["GRS_1980",6378137.0,298.257222101]],PRIMEM["Greenwich",0.0],UNIT["Degree",0.0174532925199433]],PROJECTION["Lambert_Conformal_Conic"],PARAMETER["False_Easting",3000000.0],PARAMETER["False_Northing",1000000.0],PARAMETER["Central_Meridian",-105.5],PARAMETER["Standard_Parallel_1",38.45],PARAMETER["Standard_Parallel_2",39.75],PARAMETER["Latitude_Of_Origin",37.8333333333333],UNIT["Foot_US",0.3048006096012192]]
Full Extent:
XMin: 2822226.75
YMin: 1627641.25
XMax: 2844242.25
YMax: 1647349.5
Spatial Reference: PROJCS["NAD_1983_2011_StatePlane_Colorado_Central_FIPS_0502_Ft_US",GEOGCS["GCS_NAD_1983_2011",DATUM["D_NAD_1983_2011",SPHEROID["GRS_1980",6378137.0,298.257222101]],PRIMEM["Greenwich",0.0],UNIT["Degree",0.0174532925199433]],PROJECTION["Lambert_Conformal_Conic"],PARAMETER["False_Easting",3000000.0],PARAMETER["False_Northing",1000000.0],PARAMETER["Central_Meridian",-105.5],PARAMETER["Standard_Parallel_1",38.45],PARAMETER["Standard_Parallel_2",39.75],PARAMETER["Latitude_Of_Origin",37.8333333333333],UNIT["Foot_US",0.3048006096012192]]
Pixel Size X: 0.25
Pixel Size Y: 0.25
Band Count: 4
Pixel Type: S16
RasterFunction Infos: {"rasterFunctionInfos": [{
"name": "None",
"description": "",
"help": ""
}]}
Mensuration Capabilities: Basic
Has Histograms: true
Has Colormap: false
Has Multi Dimensions : false
Rendering Rule:
Min Scale: 0
Max Scale: 0
Copyright Text:
Service Data Type: esriImageServiceDataTypeGeneric
Min Values: -1, -2, -2, -2
Max Values: 258, 258, 258, 258
Mean Values: 129.36275199562817, 128.13853254422182, 121.05309648180437, 154.54064502464166
Standard Deviation Values: 57.69679077095512, 54.75982686347829, 52.55338620638192, 73.72594092513653
Object ID Field:
Fields:
None
Default Mosaic Method: Center
Allowed Mosaic Methods:
SortField:
SortValue: null
Mosaic Operator: First
Default Compression Quality: 75
Default Resampling Method: Bilinear
Max Record Count: null
Max Image Height: 4100
Max Image Width: 15000
Max Download Image Count: null
Max Mosaic Image Count: null
Allow Raster Function: true
Allow Compute TiePoints: false
Supports Statistics: false
Supports Advanced Queries: false
Use StandardizedQueries: true
Raster Type Infos:
Name: Raster Dataset
Description: Supports all ArcGIS Raster Datasets
Help:
Has Raster Attribute Table: false
Edit Fields Info: null
Ownership Based AccessControl For Rasters: null
Child Resources:
Info
Histograms
Key Properties
Legend
MultiDimensionalInfo
rasterFunctionInfos
Supported Operations:
Export Image
Identify
Measure
Compute Histograms
Compute Statistics Histograms
Get Samples
Compute Class Statistics
Query Boundary
Compute Pixel Location