{
 "currentVersion": 10.71,
 "serviceDescription": "Frisco Imagery 2024.",
 "name": "Base_Layers/TOF_Imagery2024",
 "description": "Frisco Imagery 2024.",
 "extent": {
  "xmin": 2822226.75,
  "ymin": 1627641.25,
  "xmax": 2844242.25,
  "ymax": 1647349.5,
  "spatialReference": {
   "wkt": "PROJCS[\"NAD_1983_2011_StatePlane_Colorado_Central_FIPS_0502_Ft_US\",GEOGCS[\"GCS_NAD_1983_2011\",DATUM[\"D_NAD_1983_2011\",SPHEROID[\"GRS_1980\",6378137.0,298.257222101]],PRIMEM[\"Greenwich\",0.0],UNIT[\"Degree\",0.0174532925199433]],PROJECTION[\"Lambert_Conformal_Conic\"],PARAMETER[\"False_Easting\",3000000.0],PARAMETER[\"False_Northing\",1000000.0],PARAMETER[\"Central_Meridian\",-105.5],PARAMETER[\"Standard_Parallel_1\",38.45],PARAMETER[\"Standard_Parallel_2\",39.75],PARAMETER[\"Latitude_Of_Origin\",37.8333333333333],UNIT[\"Foot_US\",0.3048006096012192]]"
  }
 },
 "initialExtent": {
  "xmin": 2822226.75,
  "ymin": 1627641.25,
  "xmax": 2844242.25,
  "ymax": 1647349.5,
  "spatialReference": {
   "wkt": "PROJCS[\"NAD_1983_2011_StatePlane_Colorado_Central_FIPS_0502_Ft_US\",GEOGCS[\"GCS_NAD_1983_2011\",DATUM[\"D_NAD_1983_2011\",SPHEROID[\"GRS_1980\",6378137.0,298.257222101]],PRIMEM[\"Greenwich\",0.0],UNIT[\"Degree\",0.0174532925199433]],PROJECTION[\"Lambert_Conformal_Conic\"],PARAMETER[\"False_Easting\",3000000.0],PARAMETER[\"False_Northing\",1000000.0],PARAMETER[\"Central_Meridian\",-105.5],PARAMETER[\"Standard_Parallel_1\",38.45],PARAMETER[\"Standard_Parallel_2\",39.75],PARAMETER[\"Latitude_Of_Origin\",37.8333333333333],UNIT[\"Foot_US\",0.3048006096012192]]"
  }
 },
 "fullExtent": {
  "xmin": 2822226.75,
  "ymin": 1627641.25,
  "xmax": 2844242.25,
  "ymax": 1647349.5,
  "spatialReference": {
   "wkt": "PROJCS[\"NAD_1983_2011_StatePlane_Colorado_Central_FIPS_0502_Ft_US\",GEOGCS[\"GCS_NAD_1983_2011\",DATUM[\"D_NAD_1983_2011\",SPHEROID[\"GRS_1980\",6378137.0,298.257222101]],PRIMEM[\"Greenwich\",0.0],UNIT[\"Degree\",0.0174532925199433]],PROJECTION[\"Lambert_Conformal_Conic\"],PARAMETER[\"False_Easting\",3000000.0],PARAMETER[\"False_Northing\",1000000.0],PARAMETER[\"Central_Meridian\",-105.5],PARAMETER[\"Standard_Parallel_1\",38.45],PARAMETER[\"Standard_Parallel_2\",39.75],PARAMETER[\"Latitude_Of_Origin\",37.8333333333333],UNIT[\"Foot_US\",0.3048006096012192]]"
  }
 },
 "pixelSizeX": 0.25,
 "pixelSizeY": 0.25,
 "bandCount": 4,
 "pixelType": "S16",
 "minPixelSize": 0,
 "maxPixelSize": 0,
 "copyrightText": "",
 "serviceDataType": "esriImageServiceDataTypeGeneric",
 "minValues": [
  -1,
  -2,
  -2,
  -2
 ],
 "maxValues": [
  258,
  258,
  258,
  258
 ],
 "meanValues": [
  129.36275199562817,
  128.13853254422182,
  121.05309648180437,
  154.54064502464166
 ],
 "stdvValues": [
  57.69679077095512,
  54.75982686347829,
  52.55338620638192,
  73.72594092513653
 ],
 "objectIdField": "",
 "fields": [],
 "capabilities": "Mensuration,Image,Metadata",
 "defaultMosaicMethod": "Center",
 "allowedMosaicMethods": "",
 "sortField": "",
 "sortValue": null,
 "mosaicOperator": "First",
 "defaultCompressionQuality": 75,
 "defaultResamplingMethod": "Bilinear",
 "maxImageHeight": 4100,
 "maxImageWidth": 15000,
 "allowRasterFunction": true,
 "rasterFunctionInfos": [
  {
   "name": "None",
   "description": "",
   "help": ""
  }
 ],
 "rasterTypeInfos": [
  {
   "name": "Raster Dataset",
   "description": "Supports all ArcGIS Raster Datasets",
   "help": ""
  }
 ],
 "mensurationCapabilities": "Basic",
 "hasHistograms": true,
 "hasColormap": false,
 "hasRasterAttributeTable": false,
 "minScale": 0,
 "maxScale": 0,
 "exportTilesAllowed": false,
 "hasMultidimensions": false,
 "supportsStatistics": false,
 "supportsAdvancedQueries": false,
 "editFieldsInfo": null,
 "ownershipBasedAccessControlForRasters": null,
 "allowComputeTiePoints": false,
 "useStandardizedQueries": true,
 "advancedQueryCapabilities": {
  "useStandardizedQueries": true,
  "supportsStatistics": false,
  "supportsOrderBy": false,
  "supportsDistinct": false,
  "supportsPagination": false
 },
 "spatialReference": {
  "wkt": "PROJCS[\"NAD_1983_2011_StatePlane_Colorado_Central_FIPS_0502_Ft_US\",GEOGCS[\"GCS_NAD_1983_2011\",DATUM[\"D_NAD_1983_2011\",SPHEROID[\"GRS_1980\",6378137.0,298.257222101]],PRIMEM[\"Greenwich\",0.0],UNIT[\"Degree\",0.0174532925199433]],PROJECTION[\"Lambert_Conformal_Conic\"],PARAMETER[\"False_Easting\",3000000.0],PARAMETER[\"False_Northing\",1000000.0],PARAMETER[\"Central_Meridian\",-105.5],PARAMETER[\"Standard_Parallel_1\",38.45],PARAMETER[\"Standard_Parallel_2\",39.75],PARAMETER[\"Latitude_Of_Origin\",37.8333333333333],UNIT[\"Foot_US\",0.3048006096012192]]"
 }
}
