View In:
ArcGIS JavaScript
ArcGIS Online Map Viewer
ArcGIS Earth
ArcMap
View Footprint In:
ArcGIS Online Map Viewer
Service Description: Frisco_Elevation
Name: Frisco_Elevation
Description:
Single Fused Map Cache: false
Extent:
XMin: 2822225.20090784
YMin: 1627640.2887482
XMax: 2844245.20090784
YMax: 1647350.2887482
Spatial Reference: 103013
(6428)
Initial Extent:
XMin: 2822225.20090784
YMin: 1627640.2887482
XMax: 2844245.20090784
YMax: 1647350.2887482
Spatial Reference: 103013
(6428)
Full Extent:
XMin: 2822225.20090784
YMin: 1627640.2887482
XMax: 2844245.20090784
YMax: 1647350.2887482
Spatial Reference: 103013
(6428)
Pixel Size X: 3.0
Pixel Size Y: 3.0
Band Count: 1
Pixel Type: F32
RasterFunction Infos: {"rasterFunctionInfos": [{
"name": "None",
"description": "",
"help": ""
}]}
Mensuration Capabilities:
Has Histograms: true
Has Colormap: false
Has Multi Dimensions : false
Rendering Rule:
Min Scale: 0
Max Scale: 0
Copyright Text:
Service Data Type: esriImageServiceDataTypeGeneric
Min Values: 9010.55078125
Max Values: 11368.5107421875
Mean Values: 9364.791963921893
Standard Deviation Values: 439.82483147626124
Object ID Field:
Fields:
None
Default Mosaic Method: Center
Allowed Mosaic Methods:
SortField:
SortValue: null
Mosaic Operator: First
Default Compression Quality: 75
Default Resampling Method: Bilinear
Max Record Count: null
Max Image Height: 4100
Max Image Width: 15000
Max Download Image Count: null
Max Mosaic Image Count: null
Allow Raster Function: true
Allow Compute TiePoints: false
Supports Statistics: false
Supports Advanced Queries: false
Use StandardizedQueries: true
Raster Type Infos:
Name: Raster Dataset
Description: Supports all ArcGIS Raster Datasets
Help:
Has Raster Attribute Table: false
Edit Fields Info: null
Ownership Based AccessControl For Rasters: null
Child Resources:
Info
Histograms
Key Properties
Legend
MultiDimensionalInfo
rasterFunctionInfos
Supported Operations:
Export Image
Identify
Compute Histograms
Compute Statistics Histograms
Get Samples
Compute Class Statistics
Query Boundary
Compute Pixel Location