<?xml version="1.0" encoding="UTF-8" standalone="no"?>
<metadata xml:lang="en">
<Esri>
<CreaDate>20100323</CreaDate>
<CreaTime>15373500</CreaTime>
<SyncOnce>FALSE</SyncOnce>
<MetaID>{461037A4-029D-414A-B885-84BF2C59723A}</MetaID>
<DataProperties>
<itemProps>
<itemName Sync="FALSE">Frisco_Image</itemName>
<imsContentType Sync="TRUE">002</imsContentType>
<nativeExtBox>
<westBL Sync="TRUE">2822226.500000</westBL>
<eastBL Sync="TRUE">2846983.000000</eastBL>
<southBL Sync="TRUE">1627641.000000</southBL>
<northBL Sync="TRUE">1649000.000000</northBL>
<exTypeCode Sync="TRUE">1</exTypeCode>
</nativeExtBox>
</itemProps>
</DataProperties>
<SyncDate>20150206</SyncDate>
<SyncTime>15230500</SyncTime>
<ModDate>20150206</ModDate>
<ModTime>15230500</ModTime>
</Esri>
<idinfo>
<citation>
<citeinfo>
<onlink Sync="FALSE">withheld</onlink>
</citeinfo>
</citation>
</idinfo>
<distInfo>
<distributor>
<distorTran>
<onLineSrc>
<linkage Sync="FALSE">withheld</linkage>
<protocol Sync="TRUE">Local Area Network</protocol>
</onLineSrc>
</distorTran>
</distributor>
<distFormat>
<formatName Sync="FALSE">Raster Dataset</formatName>
</distFormat>
</distInfo>
<dataqual>
<lineage>
<procstep>
<procdesc Sync="TRUE">Dataset copied.</procdesc>
<srcused Sync="FALSE">withheld</srcused>
<procdate Sync="TRUE">20091005</procdate>
<proctime Sync="TRUE">16462900</proctime>
</procstep>
<procstep>
<procdesc Sync="TRUE">Dataset copied.</procdesc>
<srcused Sync="FALSE">withheld</srcused>
<procdate Sync="TRUE">20100323</procdate>
<proctime Sync="TRUE">15373500</proctime>
</procstep>
</lineage>
</dataqual>
<dataIdInfo>
<envirDesc Sync="FALSE">Esri ArcGIS 10.2.1.3497</envirDesc>
<dataLang>
<languageCode Sync="TRUE" value="eng">
</languageCode>
<countryCode Sync="TRUE" value="USA">
</countryCode>
</dataLang>
<idCitation>
<resTitle Sync="FALSE">SDE.DBO.Frisco_Image</resTitle>
<presForm>
<PresFormCd Sync="TRUE" value="011">
</PresFormCd>
</presForm>
</idCitation>
<spatRpType>
<SpatRepTypCd Sync="TRUE" value="002">
</SpatRepTypCd>
</spatRpType>
<idAbs/>
<searchKeys>
<keyword>frisco</keyword>
</searchKeys>
<idPurp>2010 Image</idPurp>
<idCredit/>
<resConst>
<Consts>
<useLimit/>
</Consts>
</resConst>
</dataIdInfo>
<mdLang>
<languageCode Sync="TRUE" value="eng">
</languageCode>
<countryCode Sync="TRUE" value="USA">
</countryCode>
</mdLang>
<mdHrLv>
<ScopeCd Sync="TRUE" value="005">
</ScopeCd>
</mdHrLv>
<mdHrLvName Sync="TRUE">dataset</mdHrLvName>
<spdoinfo>
<rastinfo>
<rasttype Sync="TRUE">Pixel</rasttype>
<rowcount Sync="TRUE">42718</rowcount>
<colcount Sync="TRUE">49513</colcount>
<rastxsz Sync="TRUE">0.500000</rastxsz>
<rastysz Sync="TRUE">0.500000</rastysz>
<rastbpp Sync="TRUE">8</rastbpp>
<vrtcount Sync="TRUE">1</vrtcount>
<rastorig Sync="TRUE">Upper Left</rastorig>
<rastcmap Sync="TRUE">FALSE</rastcmap>
<rastcomp Sync="TRUE">LZ77</rastcomp>
<rastband Sync="TRUE">3</rastband>
<rastdtyp Sync="TRUE">pixel codes</rastdtyp>
<rastifor Sync="TRUE">SDR</rastifor>
<rastplyr Sync="TRUE">TRUE</rastplyr>
</rastinfo>
</spdoinfo>
<spref>
<horizsys>
<planar>
<planci>
<plance Sync="TRUE">row and column</plance>
<coordrep>
<absres Sync="TRUE">0.500000</absres>
<ordres Sync="TRUE">0.500000</ordres>
</coordrep>
</planci>
</planar>
</horizsys>
</spref>
<mdDateSt Sync="TRUE">20150206</mdDateSt>
</metadata>
